Workbook

Sheet 収支計画
B1: 収支計画 | C1: 2026年 | D1: ◇職場名 ： 〇〇〇〇〇〇 | J1: 月別原価表（税込）
A2: 収入の部 | B2: 科目/職場 | C2: ４月 | D2: ５月 | E2: ６月 | F2: ７月 | G2: ８月 | H2: ９月 | I2: ４月～９月 | J2: １０月 | K2: １１月 | L2: １２月 | M2: １月 | N2: ２月 | O2: ３月 | P2: 合計
B3: 売上 | I3: =SUM(C3:H3) -> 0 | P3: =SUM(I3:O3) -> 0
B4: 売上外収入 | I4: =SUM(C4:H4) -> 0 | P4: =SUM(I4:O4) -> 0
I5: =SUM(C5:H5) -> 0 | P5: =SUM(I5:O5) -> 0
B6: 収入合計 | C6: =SUM(C3:C5) -> 0 | D6: =SUM(D3:D5) -> 0 | E6: =SUM(E3:E5) -> 0 | F6: =SUM(F3:F5) -> 0 | G6: =SUM(G3:G5) -> 0 | H6: =SUM(H3:H5) -> 0 | I6: =SUM(I3:I5) -> 0 | J6: =SUM(J3:J5) -> 0 | ... O6: =SUM(O3:O5) -> 0 | P6: =SUM(I6:O6) -> 0
A7: 支出の部 | B7: 給料手当 | C7: =人件費計画!$L$9+人件費計画!$L$15-人件費計画!$L$14 -> 0 | D7: =人件費計画!$L$9+人件費計画!$L$15-人件費計画!$L$14 -> 0 | E7: =人件費計画!$L$9+人件費計画!$L$15-人件費計画!$L$14 -> 0 | F7: =人件費計画!$L$9+人件費計画!$L$15-人件費計画!$L$14 -> 0 | G7: =人件費計画!$L$9+人件費計画!$L$15-人件費計画!$L$14 -> 0 | H7: =人件費計画!$L$9+人件費計画!$L$15-人件費計画!$L$14 -> 0 | I7: =SUM(C7:H7) -> 0 | J7: =人件費計画!$L$9+人件費計画!$L$15-人件費計画!$L$14 -> 0 | K7: =人件費計画!$L$9+人件費計画!$L$15-人件費計画!$L$14 -> 0 | L7: =人件費計画!$L$9+人件費計画!$L$15-人件費計画!$L$14 -> 0 | M7: =人件費計画!$L$9+人件費計画!$L$15-人件費計画!$L$14 -> 0 | N7: =人件費計画!$L$9+人件費計画!$L$15-人件費計画!$L$14 -> 0 | O7: =人件費計画!$L$9+人件費計画!$L$15-人件費計画!$L$14 -> 0 | P7: =SUM(I7:O7) -> 0
B8: 処遇改善 | C8: 0 | D8: 0 | E8: 0 | F8: 0 | G8: 0 | H8: 0 | I8: 0 | J8: 0 | K8: 0 | L8: 0 | M8: 0 | N8: 0 | O8: 0 | P8: 0
B9: 一時金 | C9: =人件費計画!$L$16 -> 0 | D9: =人件費計画!$L$16 -> 0 | E9: =人件費計画!$L$16 -> 0 | F9: =人件費計画!$L$16 -> 0 | G9: =人件費計画!$L$16 -> 0 | H9: =人件費計画!$L$16 -> 0 | I9: =SUM(C9:H9) -> 0 | J9: =人件費計画!$L$16 -> 0 | K9: =人件費計画!$L$16 -> 0 | L9: =人件費計画!$L$16 -> 0 | M9: =人件費計画!$L$16 -> 0 | N9: =人件費計画!$L$16 -> 0 | O9: =人件費計画!$L$16 -> 0 | P9: =SUM(I9:O9) -> 0
B10: 法定副利費 | C10: =人件費計画!$L$26 -> 0 | D10: =人件費計画!$L$26 -> 0 | E10: =人件費計画!$L$26 -> 0 | F10: =人件費計画!$L$26 -> 0 | G10: =人件費計画!$L$26 -> 0 | H10: =人件費計画!$L$26 -> 0 | I10: =SUM(C10:H10) -> 0 | J10: =人件費計画!$L$26 -> 0 | K10: =人件費計画!$L$26 -> 0 | L10: =人件費計画!$L$26 -> 0 | M10: =人件費計画!$L$26 -> 0 | N10: =人件費計画!$L$26 -> 0 | O10: =人件費計画!$L$26 -> 0 | P10: =SUM(I10:O10) -> 0
B11: 福利厚生費 | C11: =人件費計画!$L$27 -> 0 | D11: =人件費計画!$L$27 -> 0 | E11: =人件費計画!$L$27 -> 0 | F11: =人件費計画!$L$27 -> 0 | G11: =人件費計画!$L$27 -> 0 | H11: =人件費計画!$L$27 -> 0 | I11: =SUM(C11:H11) -> 0 | J11: =人件費計画!$L$27 -> 0 | K11: =人件費計画!$L$27 -> 0 | L11: =人件費計画!$L$27 -> 0 | M11: =人件費計画!$L$27 -> 0 | N11: =人件費計画!$L$27 -> 0 | O11: =人件費計画!$L$27 -> 0 | P11: =SUM(I11:O11) -> 0
B12: 通勤費 | C12: =人件費計画!$L$14 -> 0 | D12: =人件費計画!$L$14 -> 0 | E12: =人件費計画!$L$14 -> 0 | F12: =人件費計画!$L$14 -> 0 | G12: =人件費計画!$L$14 -> 0 | H12: =人件費計画!$L$14 -> 0 | I12: =SUM(C12:H12) -> 0 | J12: =人件費計画!$L$14 -> 0 | K12: =人件費計画!$L$14 -> 0 | L12: =人件費計画!$L$14 -> 0 | M12: =人件費計画!$L$14 -> 0 | N12: =人件費計画!$L$14 -> 0 | O12: =人件費計画!$L$14 -> 0 | P12: =SUM(I12:O12) -> 0
B13: 人件費合計 | C13: =SUM(C7:C12) -> 0 | D13: =SUM(D7:D12) -> 0 | E13: =SUM(E7:E12) -> 0 | F13: =SUM(F7:F12) -> 0 | G13: =SUM(G7:G12) -> 0 | H13: =SUM(H7:H12) -> 0 | I13: =SUM(C13:H13) -> 0 | J13: =SUM(J7:J12) -> 0 | K13: =SUM(K7:K12) -> 0 | L13: =SUM(L7:L12) -> 0 | M13: =SUM(M7:M12) -> 0 | N13: =SUM(N7:N12) -> 0 | O13: =SUM(O7:O12) -> 0 | P13: =SUM(I13:O13) -> 0
B14: 人件費率 | C14: =C13/C6 -> #DIV/0! | D14: =D13/D6 -> #DIV/0! | E14: =E13/E6 -> #DIV/0! | F14: =F13/F6 -> #DIV/0! | G14: =G13/G6 -> #DIV/0! | H14: =H13/H6 -> #DIV/0! | I14: =I13/I6 -> #DIV/0! | J14: =J13/J6 -> #DIV/0! | ... P14: =P13/P6 -> #DIV/0!
B15: 材料費 | C15: 0 | D15: 0 | E15: 0 | F15: 0 | G15: 0 | H15: 0 | I15: =SUM(C15:H15) -> 0 | P15: =SUM(I15:O15) -> 0
B16: 外注費 | I16: =SUM(C16:H16) -> 0 | P16: =SUM(I16:O16) -> 0
B17: 利用者工賃
B18: 広告宣伝費 | I18: =SUM(C18:H18) -> 0 | P18: =SUM(I18:O18) -> 0
B19: 交際費 | I19: =SUM(C19:H19) -> 0 | P19: =SUM(I19:O19) -> 0
B20: 会議費 | I20: =SUM(C20:H20) -> 0 | P20: =SUM(I20:O20) -> 0
B21: 旅費交通費 | I21: =SUM(C21:H21) -> 0 | P21: =SUM(I21:O21) -> 0
B22: 通信費 | I22: =SUM(C22:H22) -> 0 | P22: =SUM(I22:O22) -> 0
B23: 消耗品費 | I23: =SUM(C23:H23) -> 0 | P23: =SUM(I23:O23) -> 0
B24: 事務用品費 | I24: =SUM(C24:H24) -> 0 | P24: =SUM(I24:O24) -> 0
B25: 修繕費 | I25: =SUM(C25:H25) -> 0 | P25: =SUM(I25:O25) -> 0
B26: 水道光熱費 | I26: =SUM(C26:H26) -> 0 | P26: =SUM(I26:O26) -> 0
B27: 新聞図書費
B28: 諸会費 | I28: =SUM(C28:H28) -> 0 | P28: =SUM(I28:O28) -> 0
B29: 支払手数料 | I29: =SUM(C29:H29) -> 0 | P29: =SUM(I29:O29) -> 0
B30: 車両費 | I30: =SUM(C30:H30) -> 0 | P30: =SUM(I30:O30) -> 0
B31: 地代家賃 | I31: =SUM(C31:H31) -> 0 | P31: =SUM(I31:O31) -> 0
B32: 賃借料 | I32: =SUM(C32:H32) -> 0 | P32: =SUM(I32:O32) -> 0
B33: リース料 | I33: =SUM(C33:H33) -> 0 | P33: =SUM(I33:O33) -> 0
B34: 保険料 | I34: =SUM(C34:H34) -> 0 | P34: =SUM(I34:O34) -> 0
B35: 租税公課 | I35: =SUM(C35:H35) -> 0 | P35: =SUM(I35:O35) -> 0
B36: 雑費 | I36: =SUM(C36:H36) -> 0 | P36: =SUM(I36:O36) -> 0
B37: 支払報酬
B38: 研修費 | I38: =SUM(C38:H38) -> 0 | P38: =SUM(I38:O38) -> 0
B39: 雑損 | I39: =SUM(C39:H39) -> 0 | P39: =SUM(I39:O39) -> 0
B40: 概算消費税 | I40: =SUM(C40:H40) -> 0 | P40: =SUM(I40:O40) -> 0
...

Sheet 人件費計画
B1: 2025年
B2: 人件費計画
D3: 氏名 | E3: 氏名 | F3: 氏名 | G3: 氏名 | H3: 氏名 | I3: 氏名
K4: 事務局 人件費 | L4: 計
A5: ①基本給 | L5: =SUM(D5:K5) -> 0
B6: 就業日数
B7: 時間給
B8: 就業時間
L9: =SUM(L5:L8) -> 0
A10: ②諸手当 | B10: 職務給 | L10: =SUM(D10:K10) -> 0
B11: 責任手当 | L11: =SUM(D11:K11) -> 0
B12: 家族手当 | L12: =SUM(D12:K12) -> 0
B13: その他（残業など） | L13: =SUM(D13:K13) -> 0
B14: 通勤費 | L14: =SUM(D14:K14) -> 0
D15: =SUM(D10:D14) -> 0 | E15: =SUM(E10:E14) -> 0 | F15: =SUM(F10:F14) -> 0 | G15: =SUM(G10:G14) -> 0 | H15: =SUM(H10:H14) -> 0 | I15: =SUM(I10:I14) -> 0 | J15: =SUM(J10:J14) -> 0 | K15: =SUM(K10:K14) -> 0 | L15: =SUM(L10:L14) -> 0
A16: ③ | B16: 賞与引当（ ケ月/年） | D16: =ROUNDDOWN(SUM(D5,D10:D13)*$C$16/12,0) -> 0 | E16: =ROUNDDOWN(SUM(E5,E10:E13)*$C$16/12,0) -> 0 | F16: =ROUNDDOWN(SUM(F5,F10:F13)*$C$16/12,0) -> 0 | G16: =ROUNDDOWN(SUM(G5,G10:G13)*$C$16/12,0) -> 0 | H16: =ROUNDDOWN(SUM(H5,H10:H13)*$C$16/12,0) -> 0 | I16: =ROUNDDOWN(SUM(I5,I10:I13)*$C$16/12,0) -> 0 | J16: =ROUNDDOWN(SUM(J5,J10:J13)*$C$16/12,0) -> 0 | L16: =SUM(D16:K16) -> 0
A17: 直接人件費計 | D17: =SUM(D16,D15,D5) -> 0 | E17: =SUM(E16,E15,E5) -> 0 | F17: =SUM(F16,F15,F5) -> 0 | G17: =SUM(G16,G15,G5) -> 0 | H17: =SUM(H16,H15,H5) -> 0 | I17: =SUM(I16,I15,I5) -> 0 | J17: =SUM(J16,J15,J5) -> 0 | K17: =SUM(K16,K15,K5) -> 0 | L17: =SUM(D17:K17) -> 0
A18: ④社会保険料 | B18: 健康保険 | C18: 0.0577 | D18: =ROUNDDOWN(SUM(D5,D10)*0.0577,0) -> 0 | E18: =ROUNDDOWN(SUM(E5,E10)*0.0577,0) -> 0 | F18: =ROUNDDOWN(SUM(F5,F10)*0.0577,0) -> 0 | G18: =ROUNDDOWN(SUM(G5,G10)*0.0577,0) -> 0 | H18: =ROUNDDOWN(SUM(H5,H10)*0.0577,0) -> 0 | I18: =ROUNDDOWN(SUM(I5,I10)*0.0577,0) -> 0 | J18: =ROUNDDOWN(SUM(J5,J10)*0.0577,0) -> 0 | L18: =SUM(D18:K18) -> 0
B19: 賞与分 | C19: 0.0577 | D19: =ROUNDDOWN(D16*0.0577,0) -> 0 | E19: =ROUNDDOWN(E16*0.0577,0) -> 0 | F19: =ROUNDDOWN(F16*0.0577,0) -> 0 | G19: =ROUNDDOWN(G16*0.0577,0) -> 0 | H19: =ROUNDDOWN(H16*0.0577,0) -> 0 | I19: =ROUNDDOWN(I16*0.0577,0) -> 0 | J19: =ROUNDDOWN(J16*0.0577,0) -> 0 | L19: =SUM(D19:K19) -> 0
B20: 厚生年金 | C20: 0.0915 | D20: =ROUNDDOWN(SUM(D5,D10)*0.0915,0) -> 0 | E20: =ROUNDDOWN(SUM(E5,E10)*0.0915,0) -> 0 | F20: =ROUNDDOWN(SUM(F5,F10)*0.0915,0) -> 0 | G20: =ROUNDDOWN(SUM(G5,G10)*0.0915,0) -> 0 | H20: =ROUNDDOWN(SUM(H5,H10)*0.0915,0) -> 0 | I20: =ROUNDDOWN(SUM(I5,I10)*0.0915,0) -> 0 | J20: =ROUNDDOWN(SUM(J5,J10)*0.0915,0) -> 0 | L20: =SUM(D20:K20) -> 0
B21: 賞与分 | C21: 0.0915 | D21: =ROUNDDOWN(D16*0.0915,0) -> 0 | E21: =ROUNDDOWN(E16*0.0915,0) -> 0 | F21: =ROUNDDOWN(F16*0.0915,0) -> 0 | G21: =ROUNDDOWN(G16*0.0915,0) -> 0 | H21: =ROUNDDOWN(H16*0.0915,0) -> 0 | I21: =ROUNDDOWN(I16*0.0915,0) -> 0 | J21: =ROUNDDOWN(J16*0.0915,0) -> 0 | L21: =SUM(D21:K21) -> 0
B22: 子ども子育て拠出金 | C22: 0.0023 | D22: =ROUNDDOWN(SUM(D5,D10)*0.0023,0) -> 0 | E22: =ROUNDDOWN(SUM(E5,E10)*0.0023,0) -> 0 | F22: =ROUNDDOWN(SUM(F5,F10)*0.0023,0) -> 0 | G22: =ROUNDDOWN(SUM(G5,G10)*0.0023,0) -> 0 | H22: =ROUNDDOWN(SUM(H5,H10)*0.0023,0) -> 0 | I22: =ROUNDDOWN(SUM(I5,I10)*0.0023,0) -> 0 | J22: =ROUNDDOWN(SUM(J5,J10)*0.0023,0) -> 0 | L22: =SUM(D22:K22) -> 0
B23: 賞与分 | C23: 0.0023 | D23: =ROUNDDOWN(SUM(D16)*0.0023,0) -> 0 | E23: =ROUNDDOWN(SUM(E16)*0.0023,0) -> 0 | F23: =ROUNDDOWN(SUM(F16)*0.0023,0) -> 0 | G23: =ROUNDDOWN(SUM(G16)*0.0023,0) -> 0 | H23: =ROUNDDOWN(SUM(H16)*0.0023,0) -> 0 | I23: =ROUNDDOWN(SUM(I16)*0.0023,0) -> 0 | J23: =ROUNDDOWN(SUM(J16)*0.0023,0) -> 0
B24: 雇用保険 | C24: 0.006 | D24: =ROUNDDOWN(SUM(D5,D10)*0.006,0) -> 0 | E24: =ROUNDDOWN(SUM(E5,E10)*0.006,0) -> 0 | F24: =ROUNDDOWN(SUM(F5,F10)*0.006,0) -> 0 | G24: =ROUNDDOWN(SUM(G5,G10)*0.006,0) -> 0 | H24: =ROUNDDOWN(SUM(H5,H10)*0.006,0) -> 0 | I24: =ROUNDDOWN(SUM(I5,I10)*0.006,0) -> 0 | J24: =ROUNDDOWN(SUM(J5,J10)*0.006,0) -> 0 | L24: =SUM(D24:K24) -> 0
B25: 労災保険 | C25: 0.003 | D25: =ROUNDDOWN(SUM(D5,D10)*0.003,0) -> 0 | E25: =ROUNDDOWN(SUM(E5,E10)*0.003,0) -> 0 | F25: =ROUNDDOWN(SUM(F5,F10)*0.003,0) -> 0 | G25: =ROUNDDOWN(SUM(G5,G10)*0.003,0) -> 0 | H25: =ROUNDDOWN(SUM(H5,H10)*0.003,0) -> 0 | I25: =ROUNDDOWN(SUM(I5,I10)*0.003,0) -> 0 | J25: =ROUNDDOWN(SUM(J5,J10)*0.003,0) -> 0 | L25: =SUM(D25:K25) -> 0
D26: =SUM(D18:D25) -> 0 | E26: =SUM(E18:E25) -> 0 | F26: =SUM(F18:F25) -> 0 | G26: =SUM(G18:G25) -> 0 | H26: =SUM(H18:H25) -> 0 | I26: =SUM(I18:I25) -> 0 | J26: =SUM(J18:J25) -> 0 | K26: =SUM(K18:K25) -> 0 | L26: =SUM(D26:K26) -> 0
A27: ⑤ | B27: 福利厚生費 | L27: =SUM(D27:K27) -> 0
A28: ⑥ | B28: 保健衛生費 | L28: =SUM(D28:K28) -> 0
A29: 間接人件費計 | D29: =SUM(D26:D28) -> 0 | E29: =SUM(E26:E28) -> 0 | F29: =SUM(F26:F28) -> 0 | G29: =SUM(G26:G28) -> 0 | H29: =SUM(H26:H28) -> 0 | I29: =SUM(I26:I28) -> 0 | J29: =SUM(J26:J28) -> 0 | K29: =SUM(K26:K28) -> 0 | L29: =SUM(D29:K29) -> 0
A30: 人件費計 | D30: =D17+D29 -> 0 | E30: =E17+E29 -> 0 | F30: =F17+F29 -> 0 | G30: =G17+G29 -> 0 | H30: =H17+H29 -> 0 | I30: =I17+I29 -> 0 | J30: =J17+J29 -> 0 | K30: =K17+K29 -> 0 | L30: =SUM(D30:K30) -> 0
